BEGIN:VCALENDAR
VERSION:2.0
PRODID:SchoolNow
CALSCALE:GREGORIAN
BEGIN:VEVENT
UID:db650098-7c89-11e7-bf32-124f7febbf4a
DTSTAMP:20180822T050001Z
SUMMARY:4th & 5th Gr Field Trip
URL;VALUE=URI:https://www.op97.org/beye/calendar/1557734/4th-5th-gr-field-t
 rip
DTSTART:20181115T173000Z
DTEND:20181115T200000Z
END:VEVENT
END:VCALENDAR
