BEGIN:VCALENDAR
VERSION:2.0
PRODID:SchoolNow
CALSCALE:GREGORIAN
BEGIN:VEVENT
UID:6005e890-39e9-11e8-9357-1281d25fbe6e
DTSTAMP:20180406T222513Z
SUMMARY:Hearing Screening (K-3rd Grades)
LOCATION:Beye School Auditorium
URL;VALUE=URI:https://www.op97.org/beye/calendar/1745157/hearing-screening-
 k3rd-grades
DTSTART:20180914T130000Z
DTEND:20180914T195500Z
END:VEVENT
END:VCALENDAR
