BEGIN:VCALENDAR
VERSION:2.0
PRODID:SchoolNow
CALSCALE:GREGORIAN
BEGIN:VEVENT
UID:da447964-39e9-11e8-aca6-0a5212431f5c
DTSTAMP:20180406T222838Z
SUMMARY:Vision Screening (K\, 2nd & 5th Grades)
LOCATION:Beye School Auditorium
URL;VALUE=URI:https://www.op97.org/beye/calendar/1745158/vision-screening-k
 -2nd-5th-grades
DTSTART:20181102T130000Z
DTEND:20181102T195500Z
END:VEVENT
END:VCALENDAR
