BEGIN:VCALENDAR
VERSION:2.0
PRODID:SchoolNow
CALSCALE:GREGORIAN
BEGIN:VEVENT
UID:019e13a6-51fc-11e8-a37e-0a66b6b6bfb8
DTSTAMP:20180507T133903Z
SUMMARY:Picture Retake Day
LOCATION:Beye School Commons
URL;VALUE=URI:https://www.op97.org/beye/calendar/1773823/picture-retake-day
DTSTART:20181108T140000Z
DTEND:20181108T180000Z
END:VEVENT
END:VCALENDAR
