BEGIN:VCALENDAR
VERSION:2.0
PRODID:SchoolNow
CALSCALE:GREGORIAN
BEGIN:VEVENT
UID:e409312c-6826-11e8-bae7-127c9ead7b4a
DTSTAMP:20180604T184127Z
SUMMARY:Enrichment All School Assembly
LOCATION:Beye School Auditorium
URL;VALUE=URI:https://www.op97.org/beye/calendar/1788804/enrichment-all-sch
 ool-assembly
DTSTART:20180917T140000Z
DTEND:20180917T160000Z
END:VEVENT
END:VCALENDAR
