BEGIN:VCALENDAR
VERSION:2.0
PRODID:SchoolNow
CALSCALE:GREGORIAN
BEGIN:VEVENT
UID:344e1826-6da1-11e8-9e31-0af8d7724924
DTSTAMP:20180611T175936Z
SUMMARY:5th Grade Camp Edward
LOCATION:Edwards YMCA Camp & Conference Center\, N8901 Army Lake Rd\, East 
 Troy\, WI  53120
URL;VALUE=URI:https://www.op97.org/beye/calendar/1793207/5th-grade-camp-edw
 ard
DTSTART:20181010T140000Z
DTEND:20181012T191500Z
END:VEVENT
END:VCALENDAR
