BEGIN:VCALENDAR
VERSION:2.0
PRODID:SchoolNow
CALSCALE:GREGORIAN
BEGIN:VEVENT
UID:5fab18e2-6e51-11e8-8683-0a4cab79b13a
DTSTAMP:20180801T050001Z
SUMMARY:Choral Fest @ OPFRHS
URL;VALUE=URI:https://www.op97.org/beye/calendar/1794484/choral-fest-clone
DTSTART:20190409T000000Z
DTEND:20190409T023000Z
END:VEVENT
END:VCALENDAR
