BEGIN:VCALENDAR
VERSION:2.0
PRODID:SchoolNow
CALSCALE:GREGORIAN
BEGIN:VEVENT
UID:e9382a18-6e52-11e8-9d8e-12a06d609c84
DTSTAMP:20180612T151141Z
SUMMARY:Winter Music Festival
URL;VALUE=URI:https://www.op97.org/beye/calendar/1794485/winter-music-festi
 val
DTSTART:20181220T003000Z
DTEND:20181220T023000Z
END:VEVENT
END:VCALENDAR
