BEGIN:VCALENDAR
VERSION:2.0
PRODID:SchoolNow
CALSCALE:GREGORIAN
BEGIN:VEVENT
UID:ddeface4-748d-11e8-a49d-0afba0f3f078
DTSTAMP:20180620T132849Z
SUMMARY:Elementary Instrumental Music Fest
LOCATION:Oak Park River Forest High School
URL;VALUE=URI:https://www.op97.org/beye/calendar/1798163/elementary-instrum
 ental-music-fest
DTSTART:20190404T233000Z
DTEND:20190405T013000Z
END:VEVENT
END:VCALENDAR
