BEGIN:VCALENDAR
VERSION:2.0
PRODID:SchoolNow
CALSCALE:GREGORIAN
BEGIN:VEVENT
UID:2c11e24c-748f-11e8-bbe7-0af8cbb987b6
DTSTAMP:20180620T133810Z
SUMMARY:3rd Gr FT - CSO
LOCATION:Chicago Symphany Center
URL;VALUE=URI:https://www.op97.org/beye/calendar/1798165/3rd-gr-ft-cso
DTSTART:20190517T140000Z
DTEND:20190517T160000Z
END:VEVENT
END:VCALENDAR
