BEGIN:VCALENDAR
VERSION:2.0
PRODID:SchoolNow
CALSCALE:GREGORIAN
BEGIN:VEVENT
UID:94ee5156-748f-11e8-8233-0a296cd493e2
DTSTAMP:20190109T212519Z
SUMMARY:Spring Sing (Gr 2 & 4)
LOCATION:Beye School Auditorium
URL;VALUE=URI:https://www.op97.org/beye/calendar/1798167/spring-sing
DTSTART:20190514T230000Z
DTEND:20190515T003000Z
END:VEVENT
END:VCALENDAR
