BEGIN:VCALENDAR
VERSION:2.0
PRODID:SchoolNow
CALSCALE:GREGORIAN
BEGIN:VEVENT
UID:b2e8fb48-748f-11e8-9022-0aabe6cb1290
DTSTAMP:20181030T121502Z
SUMMARY:Spring Sing (Kindergarten)
LOCATION:Beye School Auditorium
URL;VALUE=URI:https://www.op97.org/beye/calendar/1798168/spring-sing
DTSTART:20190515T230000Z
DTEND:20190516T000000Z
END:VEVENT
END:VCALENDAR
