BEGIN:VCALENDAR
VERSION:2.0
PRODID:SchoolNow
CALSCALE:GREGORIAN
BEGIN:VEVENT
UID:d48f4fe0-748f-11e8-a44a-0af8cbb987b6
DTSTAMP:20190109T211747Z
SUMMARY:Spring Sing (Gr 1 & 3)
LOCATION:Beye School Auditorium
URL;VALUE=URI:https://www.op97.org/beye/calendar/1798169/spring-sing
DTSTART:20190516T230000Z
DTEND:20190517T003000Z
END:VEVENT
END:VCALENDAR
