BEGIN:VCALENDAR
VERSION:2.0
PRODID:SchoolNow
CALSCALE:GREGORIAN
BEGIN:VEVENT
UID:6b8e1386-7490-11e8-aab2-0a56818dbbb6
DTSTAMP:20180620T134706Z
SUMMARY:4th & 5th Gr Concordia FT
LOCATION:Concordia University
URL;VALUE=URI:https://www.op97.org/beye/calendar/1798170/4th-5th-gr-concord
 ia-ft
DTSTART:20181115T183000Z
DTEND:20181115T193000Z
END:VEVENT
END:VCALENDAR
