BEGIN:VCALENDAR
VERSION:2.0
PRODID:SchoolNow
CALSCALE:GREGORIAN
BEGIN:VEVENT
UID:b44a36a4-794f-11e8-b261-0a83d5c40cee
DTSTAMP:20180626T144626Z
SUMMARY:PTO Meeting
LOCATION:Beye School Commons
URL;VALUE=URI:https://www.op97.org/beye/calendar/1802582/pto-meeting
DTSTART:20180913T000000Z
DTEND:20180913T020000Z
END:VEVENT
END:VCALENDAR
