BEGIN:VCALENDAR
VERSION:2.0
PRODID:SchoolNow
CALSCALE:GREGORIAN
BEGIN:VEVENT
UID:08339bf2-7950-11e8-a3f1-0a430886ee6e
DTSTAMP:20180626T144847Z
SUMMARY:PTO Meeting
LOCATION:Beye School Commons
URL;VALUE=URI:https://www.op97.org/beye/calendar/1802583/pto-meeting-clone
DTSTART:20181115T010000Z
DTEND:20181115T040000Z
END:VEVENT
END:VCALENDAR
