BEGIN:VCALENDAR
VERSION:2.0
PRODID:SchoolNow
CALSCALE:GREGORIAN
BEGIN:VEVENT
UID:2aff21b0-7950-11e8-935e-0a430886ee6e
DTSTAMP:20180626T144946Z
SUMMARY:PTO Meeting
LOCATION:Beye School Commons
URL;VALUE=URI:https://www.op97.org/beye/calendar/1802584/pto-meeting-clone-
 clone
DTSTART:20190110T010000Z
DTEND:20190110T050000Z
END:VEVENT
END:VCALENDAR
