BEGIN:VCALENDAR
VERSION:2.0
PRODID:SchoolNow
CALSCALE:GREGORIAN
BEGIN:VEVENT
UID:5679ebcc-7950-11e8-a8e6-0a83d5c40cee
DTSTAMP:20190226T163024Z
SUMMARY:PTO Meeting
LOCATION:Beye School Commons
URL;VALUE=URI:https://www.op97.org/beye/calendar/1802586/pto-meeting-clone-
 clone-clone-clone
DTSTART:20190511T140000Z
DTEND:20190511T160000Z
END:VEVENT
END:VCALENDAR
