BEGIN:VCALENDAR
VERSION:2.0
PRODID:SchoolNow
CALSCALE:GREGORIAN
BEGIN:VEVENT
UID:ef32dc10-795b-11e8-903d-12379345dd9c
DTSTAMP:20180626T161611Z
SUMMARY:Fall Book Fair
LOCATION:Beye School Commons
URL;VALUE=URI:https://www.op97.org/beye/calendar/1802647/fall-book-fair-clo
 ne
DTSTART:20181024T123000Z
DTEND:20181024T230000Z
END:VEVENT
END:VCALENDAR
