BEGIN:VCALENDAR
VERSION:2.0
PRODID:SchoolNow
CALSCALE:GREGORIAN
BEGIN:VEVENT
UID:57ea498c-795c-11e8-aa2a-0a7536354c1a
DTSTAMP:20180626T161655Z
SUMMARY:Fall Book Fair
LOCATION:Beye School Commons
URL;VALUE=URI:https://www.op97.org/beye/calendar/1802648/fall-book-fair-clo
 ne-clone
DTSTART:20181025T123000Z
DTEND:20181026T000000Z
END:VEVENT
END:VCALENDAR
