BEGIN:VCALENDAR
VERSION:2.0
PRODID:SchoolNow
CALSCALE:GREGORIAN
BEGIN:VEVENT
UID:72d79a56-795c-11e8-8262-0a7536354c1a
DTSTAMP:20180626T161740Z
SUMMARY:Fall Book Fair
LOCATION:Beye School Commons
URL;VALUE=URI:https://www.op97.org/beye/calendar/1802649/fall-book-fair-clo
 ne-clone-clone
DTSTART:20181026T123000Z
DTEND:20181026T173000Z
END:VEVENT
END:VCALENDAR
