BEGIN:VCALENDAR
VERSION:2.0
PRODID:SchoolNow
CALSCALE:GREGORIAN
BEGIN:VEVENT
UID:caeb8686-796a-11e8-82e2-0ae3ec21c312
DTSTAMP:20190131T151747Z
SUMMARY:Spring Book Fair
LOCATION:Beye School Commons
URL;VALUE=URI:https://www.op97.org/beye/calendar/1803075/spring-book-fair-c
 lone-clone
DTSTART:20190131T180000Z
DTEND:20190201T010000Z
END:VEVENT
END:VCALENDAR
