BEGIN:VCALENDAR
VERSION:2.0
PRODID:SchoolNow
CALSCALE:GREGORIAN
BEGIN:VEVENT
UID:32fef6be-796f-11e8-9dd2-12266c25c46a
DTSTAMP:20190131T151855Z
SUMMARY:Spring Book Fair
LOCATION:Beye School Commons
URL;VALUE=URI:https://www.op97.org/beye/calendar/1803081/spring-book-fair-c
 lone-clone-clone
DTSTART:20190201T133000Z
DTEND:20190201T220000Z
END:VEVENT
END:VCALENDAR
