BEGIN:VCALENDAR
VERSION:2.0
PRODID:SchoolNow
CALSCALE:GREGORIAN
BEGIN:VEVENT
UID:e56ed17a-7974-11e8-8f1f-12266c25c46a
DTSTAMP:20180626T191240Z
SUMMARY:Morning Math Meet-Up
LOCATION:Beye School Commons & Classrooms
URL;VALUE=URI:https://www.op97.org/beye/calendar/1803086/morning-math-meet-
 up
DTSTART:20190209T153000Z
DTEND:20190209T173000Z
END:VEVENT
END:VCALENDAR
