BEGIN:VCALENDAR
VERSION:2.0
PRODID:SchoolNow
CALSCALE:GREGORIAN
BEGIN:VEVENT
UID:124b53f8-7975-11e8-af45-121ebd6b7060
DTSTAMP:20180924T142059Z
SUMMARY:Morning Reading Round-Up
LOCATION:Beye School Commons & Classrooms
URL;VALUE=URI:https://www.op97.org/beye/calendar/1803087/morning-reading-ro
 und-up
DTSTART:20180929T140000Z
DTEND:20180929T160000Z
END:VEVENT
END:VCALENDAR
