BEGIN:VCALENDAR
VERSION:2.0
PRODID:SchoolNow
CALSCALE:GREGORIAN
BEGIN:VEVENT
UID:1efc5efc-7976-11e8-9618-12e31e2bb8fa
DTSTAMP:20181016T151821Z
SUMMARY:Olympic Day
URL;VALUE=URI:https://www.op97.org/beye/calendar/1803088/olympic-day
DTSTART:20190531T130000Z
DTEND:20190531T200000Z
END:VEVENT
END:VCALENDAR
