BEGIN:VCALENDAR
VERSION:2.0
PRODID:SchoolNow
CALSCALE:GREGORIAN
BEGIN:VEVENT
UID:f19d17ec-7a4e-11e8-a4b9-0a333fe9605e
DTSTAMP:20180627T211331Z
SUMMARY:Institute Day - No School
URL;VALUE=URI:https://www.op97.org/beye/calendar/1803469/teacher-institute-
 dayno-school-040219
DTSTART;VALUE=DATE:20190402
DTEND;VALUE=DATE:20190403
END:VEVENT
END:VCALENDAR
