BEGIN:VCALENDAR
VERSION:2.0
PRODID:SchoolNow
CALSCALE:GREGORIAN
BEGIN:VEVENT
UID:ebb221f2-7ae8-11e8-8576-0a55bda61cca
DTSTAMP:20180628T153544Z
SUMMARY:Principal Coffee
LOCATION:Beye School Commons
URL;VALUE=URI:https://www.op97.org/beye/calendar/1803622/principal-coffee-c
 lone
DTSTART:20181019T130000Z
DTEND:20181019T150000Z
END:VEVENT
END:VCALENDAR
