BEGIN:VCALENDAR
VERSION:2.0
PRODID:SchoolNow
CALSCALE:GREGORIAN
BEGIN:VEVENT
UID:2eace7da-7ae9-11e8-9b06-0ad83d40a4c0
DTSTAMP:20180628T153736Z
SUMMARY:Principal Coffee
LOCATION:Beye School Commons
URL;VALUE=URI:https://www.op97.org/beye/calendar/1803623/principal-coffee-c
 lone
DTSTART:20181214T140000Z
DTEND:20181214T160000Z
END:VEVENT
END:VCALENDAR
