BEGIN:VCALENDAR
VERSION:2.0
PRODID:SchoolNow
CALSCALE:GREGORIAN
BEGIN:VEVENT
UID:5ddefd72-7ae9-11e8-a04e-0a55bda61cca
DTSTAMP:20180628T153855Z
SUMMARY:Principal Coffee
LOCATION:Beye School Commons
URL;VALUE=URI:https://www.op97.org/beye/calendar/1803624/principal-coffee-c
 lone
DTSTART:20190222T140000Z
DTEND:20190222T160000Z
END:VEVENT
END:VCALENDAR
