BEGIN:VCALENDAR
VERSION:2.0
PRODID:SchoolNow
CALSCALE:GREGORIAN
BEGIN:VEVENT
UID:821f3198-7ae9-11e8-a03d-0ad83d40a4c0
DTSTAMP:20180628T153956Z
SUMMARY:Principal Coffee
LOCATION:Beye School Commons
URL;VALUE=URI:https://www.op97.org/beye/calendar/1803625/principal-coffee-c
 lone-clone
DTSTART:20190412T130000Z
DTEND:20190412T160000Z
END:VEVENT
END:VCALENDAR
