BEGIN:VCALENDAR
VERSION:2.0
PRODID:SchoolNow
CALSCALE:GREGORIAN
BEGIN:VEVENT
UID:be1278ea-7ae9-11e8-84f0-125263f28124
DTSTAMP:20180628T154136Z
SUMMARY:Beye School Health Fair
URL;VALUE=URI:https://www.op97.org/beye/calendar/1803626/beye-school-health
 -fair
DTSTART:20181221T140000Z
DTEND:20181221T170000Z
END:VEVENT
END:VCALENDAR
