BEGIN:VCALENDAR
VERSION:2.0
PRODID:SchoolNow
CALSCALE:GREGORIAN
BEGIN:VEVENT
UID:c3e4ad70-7afc-11e8-a1c3-121b0b0984fc
DTSTAMP:20180628T175747Z
SUMMARY:Parent-Teacher Conferences - Half Day (AM Only)
URL;VALUE=URI:https://www.op97.org/beye/calendar/1803711/parent-teacher-con
 ferences-half-day-am-only-013119
DTSTART;VALUE=DATE:20190131
DTEND;VALUE=DATE:20190201
END:VEVENT
END:VCALENDAR
