BEGIN:VCALENDAR
VERSION:2.0
PRODID:SchoolNow
CALSCALE:GREGORIAN
BEGIN:VEVENT
UID:44ea7ff8-7afd-11e8-aa48-121b0b0984fc
DTSTAMP:20180628T180123Z
SUMMARY:Labor Day - No School
URL;VALUE=URI:https://www.op97.org/beye/calendar/1803730/labor-day-no-schoo
 l-2018
DTSTART;VALUE=DATE:20180903
DTEND;VALUE=DATE:20180904
END:VEVENT
END:VCALENDAR
