BEGIN:VCALENDAR
VERSION:2.0
PRODID:SchoolNow
CALSCALE:GREGORIAN
BEGIN:VEVENT
UID:6a5152bc-7afd-11e8-b691-121b0b0984fc
DTSTAMP:20180927T142632Z
SUMMARY:Indigenous Peoples Day - No School
URL;VALUE=URI:https://www.op97.org/beye/calendar/1803741/indigenous-peoples
 -day-no-school
DTSTART;VALUE=DATE:20181008
DTEND;VALUE=DATE:20181009
END:VEVENT
END:VCALENDAR
