BEGIN:VCALENDAR
VERSION:2.0
PRODID:SchoolNow
CALSCALE:GREGORIAN
BEGIN:VEVENT
UID:066dd206-7afe-11e8-90b6-121b0b0984fc
DTSTAMP:20180628T180648Z
SUMMARY:Thanksgiving Break - No School
URL;VALUE=URI:https://www.op97.org/beye/calendar/1803752/thanksgiving-break
 -no-school-2018
DTSTART;VALUE=DATE:20181121
DTEND;VALUE=DATE:20181124
END:VEVENT
END:VCALENDAR
