BEGIN:VCALENDAR
VERSION:2.0
PRODID:SchoolNow
CALSCALE:GREGORIAN
BEGIN:VEVENT
UID:2f323830-7afe-11e8-9640-121b0b0984fc
DTSTAMP:20180628T180756Z
SUMMARY:Martin Luther King Jr. Day - No School
URL;VALUE=URI:https://www.op97.org/beye/calendar/1803763/martin-luther-king
 -jr-day-no-school-2019
DTSTART;VALUE=DATE:20190121
DTEND;VALUE=DATE:20190122
END:VEVENT
END:VCALENDAR
