BEGIN:VCALENDAR
VERSION:2.0
PRODID:SchoolNow
CALSCALE:GREGORIAN
BEGIN:VEVENT
UID:8c374b3c-7aff-11e8-b9ac-0ad83d40a4c0
DTSTAMP:20180628T181742Z
SUMMARY:Memorial Day - No School
URL;VALUE=URI:https://www.op97.org/beye/calendar/1803807/memorial-day-no-sc
 hool-2019
DTSTART;VALUE=DATE:20190527
DTEND;VALUE=DATE:20190528
END:VEVENT
END:VCALENDAR
