BEGIN:VCALENDAR
VERSION:2.0
PRODID:SchoolNow
CALSCALE:GREGORIAN
BEGIN:VEVENT
UID:d4e0228c-7aff-11e8-bf90-0a3f3c148332
DTSTAMP:20180628T181944Z
SUMMARY:Spring Break - No School
URL;VALUE=URI:https://www.op97.org/beye/calendar/1803818/spring-break-no-sc
 hool-2019
DTSTART;VALUE=DATE:20190325
DTEND;VALUE=DATE:20190330
END:VEVENT
END:VCALENDAR
