BEGIN:VCALENDAR
VERSION:2.0
PRODID:SchoolNow
CALSCALE:GREGORIAN
BEGIN:VEVENT
UID:aa502976-7b00-11e8-bde8-12306563b67c
DTSTAMP:20180628T182542Z
SUMMARY:Second Trimester Ends
URL;VALUE=URI:https://www.op97.org/beye/calendar/1803851/second-trimester-e
 nds-2019
DTSTART;VALUE=DATE:20190227
DTEND;VALUE=DATE:20190228
END:VEVENT
END:VCALENDAR
