BEGIN:VCALENDAR
VERSION:2.0
PRODID:SchoolNow
CALSCALE:GREGORIAN
BEGIN:VEVENT
UID:85f02134-7b01-11e8-a810-0aac80a7440c
DTSTAMP:20180628T183150Z
SUMMARY:First Trimester Report Card Distribution
URL;VALUE=URI:https://www.op97.org/beye/calendar/1803875/first-trimester-re
 port-card-distribution-2018
DTSTART;VALUE=DATE:20181207
DTEND;VALUE=DATE:20181208
END:VEVENT
END:VCALENDAR
