BEGIN:VCALENDAR
VERSION:2.0
PRODID:SchoolNow
CALSCALE:GREGORIAN
BEGIN:VEVENT
UID:909fa230-7b01-11e8-9452-0aac80a7440c
DTSTAMP:20180628T183208Z
SUMMARY:Second Trimester Report Card Distribution
URL;VALUE=URI:https://www.op97.org/beye/calendar/1803885/second-trimester-r
 eport-card-distribution-2019
DTSTART;VALUE=DATE:20190315
DTEND;VALUE=DATE:20190316
END:VEVENT
END:VCALENDAR
