BEGIN:VCALENDAR
VERSION:2.0
PRODID:SchoolNow
CALSCALE:GREGORIAN
BEGIN:VEVENT
UID:8cf40f08-99b1-11e8-a664-0af797dc05cc
DTSTAMP:20180806T194728Z
SUMMARY:Equip for Equity Presentation
LOCATION:Beye School Commons
URL;VALUE=URI:https://www.op97.org/beye/calendar/1820982/equip-for-equity-p
 resentation
DTSTART:20181013T140000Z
DTEND:20181013T160000Z
END:VEVENT
END:VCALENDAR
