BEGIN:VCALENDAR
VERSION:2.0
PRODID:SchoolNow
CALSCALE:GREGORIAN
BEGIN:VEVENT
UID:a87660e0-a26d-11e8-a0a0-0a9f61c6780a
DTSTAMP:20180817T223409Z
SUMMARY:Spelling Bee
LOCATION:Beye School Auditorium
URL;VALUE=URI:https://www.op97.org/beye/calendar/1836219/spelling-bee
DTSTART:20190117T003000Z
DTEND:20190117T023000Z
END:VEVENT
END:VCALENDAR
