BEGIN:VCALENDAR
VERSION:2.0
PRODID:SchoolNow
CALSCALE:GREGORIAN
BEGIN:VEVENT
UID:20e59a70-a947-11e8-b737-0a0e563d5904
DTSTAMP:20181127T130942Z
SUMMARY:Reading Olympics - Beye School
URL;VALUE=URI:https://www.op97.org/beye/calendar/1842721/reading-olympics-b
 eye-school
DTSTART:20181129T183000Z
DTEND:20181129T193000Z
END:VEVENT
END:VCALENDAR
