BEGIN:VCALENDAR
VERSION:2.0
PRODID:SchoolNow
CALSCALE:GREGORIAN
BEGIN:VEVENT
UID:4d433f0a-a947-11e8-afe5-0a83ff2a3e68
DTSTAMP:20180826T154713Z
SUMMARY:Reading Olympics - Beye School
LOCATION:Beye School Auditorium
URL;VALUE=URI:https://www.op97.org/beye/calendar/1842722/reading-olympics-b
 eye-school
DTSTART:20190313T141500Z
DTEND:20190313T151500Z
END:VEVENT
END:VCALENDAR
