BEGIN:VCALENDAR
VERSION:2.0
PRODID:SchoolNow
CALSCALE:GREGORIAN
BEGIN:VEVENT
UID:6f277b22-ab0e-11e8-bfc4-126b66f0e0c2
DTSTAMP:20180828T220511Z
SUMMARY:Kindergarten Families C'mon Beye Party
URL;VALUE=URI:https://www.op97.org/beye/calendar/1849354/kindergarten-famil
 ies-cmon-beye-party
DTSTART:20180908T190000Z
DTEND:20180908T210000Z
END:VEVENT
END:VCALENDAR
