BEGIN:VCALENDAR
VERSION:2.0
PRODID:SchoolNow
CALSCALE:GREGORIAN
BEGIN:VEVENT
UID:a99962c8-ab92-11e8-b2f9-0acdbf8f7cd2
DTSTAMP:20180829T135143Z
SUMMARY:C'mon Beye Potluck Party
URL;VALUE=URI:https://www.op97.org/beye/calendar/1849664/cmon-beye-potluck-
 party
DTSTART:20180916T000000Z
DTEND:20180916T020000Z
END:VEVENT
END:VCALENDAR
