BEGIN:VCALENDAR
VERSION:2.0
PRODID:SchoolNow
CALSCALE:GREGORIAN
BEGIN:VEVENT
UID:216896ac-ac51-11e8-a090-1259ddd5155e
DTSTAMP:20180830T123508Z
SUMMARY:Beye School Fun Fair
URL;VALUE=URI:https://www.op97.org/beye/calendar/1850624/beye-school-fun-fa
 ir
DTSTART:20190316T160000Z
DTEND:20190316T200000Z
END:VEVENT
END:VCALENDAR
