BEGIN:VCALENDAR
VERSION:2.0
PRODID:SchoolNow
CALSCALE:GREGORIAN
BEGIN:VEVENT
UID:a1831016-b29a-11e8-be97-125ddcec5a0c
DTSTAMP:20180907T123623Z
SUMMARY:Opera for the Young ~ Super Storm
LOCATION:Beye School Auditorium
URL;VALUE=URI:https://www.op97.org/beye/calendar/1859470/opera-for-the-youn
 g-super-storm
DTSTART:20181105T154500Z
DTEND:20181105T191500Z
END:VEVENT
END:VCALENDAR
